BEGIN:VCALENDAR
VERSION:2.0
PRODID:-//IHAF - ECPv6.15.20//NONSGML v1.0//EN
CALSCALE:GREGORIAN
METHOD:PUBLISH
X-WR-CALNAME:IHAF
X-ORIGINAL-URL:https://www.ihaforum.org
X-WR-CALDESC:Events for IHAF
REFRESH-INTERVAL;VALUE=DURATION:PT1H
X-Robots-Tag:noindex
X-PUBLISHED-TTL:PT1H
BEGIN:VTIMEZONE
TZID:America/New_York
BEGIN:DAYLIGHT
TZOFFSETFROM:-0500
TZOFFSETTO:-0400
TZNAME:EDT
DTSTART:20250309T070000
END:DAYLIGHT
BEGIN:STANDARD
TZOFFSETFROM:-0400
TZOFFSETTO:-0500
TZNAME:EST
DTSTART:20251102T060000
END:STANDARD
BEGIN:DAYLIGHT
TZOFFSETFROM:-0500
TZOFFSETTO:-0400
TZNAME:EDT
DTSTART:20260308T070000
END:DAYLIGHT
BEGIN:STANDARD
TZOFFSETFROM:-0400
TZOFFSETTO:-0500
TZNAME:EST
DTSTART:20261101T060000
END:STANDARD
BEGIN:DAYLIGHT
TZOFFSETFROM:-0500
TZOFFSETTO:-0400
TZNAME:EDT
DTSTART:20270314T070000
END:DAYLIGHT
BEGIN:STANDARD
TZOFFSETFROM:-0400
TZOFFSETTO:-0500
TZNAME:EST
DTSTART:20271107T060000
END:STANDARD
END:VTIMEZONE
BEGIN:VEVENT
DTSTART;TZID=America/New_York:20260414T120000
DTEND;TZID=America/New_York:20260505T160000
DTSTAMP:20260423T013631
CREATED:20260219T193859Z
LAST-MODIFIED:20260410T151159Z
UID:10000069-1776168000-1777996800@www.ihaforum.org
SUMMARY:IHAF Professional Certification Program
DESCRIPTION:Our April cohort is SOLD OUT. Registration for our May/June series is now open—view the dates and register to save your spot today. \nA focused\, hands‑on learning experience designed to help IHAF members build real fluency with AI. Together\, we explore how AI works\, where it adds value\, and how to apply it responsibly in creative and marketing environments. This program emphasizes principles over tools and experimentation over theory—expanding without replacing creative thinking. \nDelivered across four half-day classes\, our AI certification series blends expert guidance with practical application to strengthen your ability to choose the right tools\, prioritize proven practices over one‑off experiments\, and foster collaboration instead of isolated trial and error. Program graduates leave with sharper thinking\, stronger workflows\, and a shared point of view on how AI can meaningfully amplify creative and strategic outcomes. \nThis is not a technical bootcamp or a push to use AI everywhere. It’s a practical training program that helps teams understand when AI supports great work and when human judgment\, craft\, and brand integrity should lead. The emphasis is on thoughtful\, effective use of AI that strengthens creative and strategic outcomes. \nThis is a 16-hour program delivered virtually across four live sessions—each one builds on the last. Participants who attend all four classes will earn a certificate of completion. \nEnrollment is available to in-house agency professionals (members and non-members). Participation is limited to the first 24 registrants. \nLooking for details on the full course curriculum and training team? Visit our Learning Labs overview page for a complete guide to the series.
URL:https://www.ihaforum.org/event/ihaf-learning-labs-on-applied-ai/
CATEGORIES:Virtual Training Series
ATTACH;FMTTYPE=image/png:https://www.ihaforum.org/wp-content/uploads/2026/02/content-events_LL-on-ai.png
END:VEVENT
BEGIN:VEVENT
DTSTART;TZID=America/New_York:20260423T130000
DTEND;TZID=America/New_York:20260423T140000
DTSTAMP:20260423T013631
CREATED:20260107T214115Z
LAST-MODIFIED:20260107T214115Z
UID:10000059-1776949200-1776952800@www.ihaforum.org
SUMMARY:Getting to Better Feedback
DESCRIPTION:Giving and receiving feedback can be uncomfortable\, and it’s easy for these conversations to potentially veer off track. This webinar offers managers practical tools for staying calm\, focused\, and effective in the moment. We’ll discuss how the body and brain respond to challenging conversations and why employees might be tempted to shut down. We’ll also review a simple framework for delivering clearer feedback\, and strategies for recovering when things go sideways. Designed for managers at all levels\, this session builds confidence and strengthens everyday communication.
URL:https://www.ihaforum.org/event/getting-to-better-feedback/
CATEGORIES:Webinar
ATTACH;FMTTYPE=image/png:https://www.ihaforum.org/wp-content/uploads/2026/01/GettingtoBetterFeedback-AprWebinar.png
END:VEVENT
END:VCALENDAR